BEGIN:VCALENDAR
VERSION:2.0
PRODID:-//Joyta - ECPv6.15.20//NONSGML v1.0//EN
CALSCALE:GREGORIAN
METHOD:PUBLISH
X-WR-CALNAME:Joyta
X-ORIGINAL-URL:https://joyta.nl
X-WR-CALDESC:Evenementen voor Joyta
REFRESH-INTERVAL;VALUE=DURATION:PT1H
X-Robots-Tag:noindex
X-PUBLISHED-TTL:PT1H
BEGIN:VTIMEZONE
TZID:Europe/Amsterdam
BEGIN:DAYLIGHT
TZOFFSETFROM:+0100
TZOFFSETTO:+0200
TZNAME:CEST
DTSTART:20250330T010000
END:DAYLIGHT
BEGIN:STANDARD
TZOFFSETFROM:+0200
TZOFFSETTO:+0100
TZNAME:CET
DTSTART:20251026T010000
END:STANDARD
BEGIN:DAYLIGHT
TZOFFSETFROM:+0100
TZOFFSETTO:+0200
TZNAME:CEST
DTSTART:20260329T010000
END:DAYLIGHT
BEGIN:STANDARD
TZOFFSETFROM:+0200
TZOFFSETTO:+0100
TZNAME:CET
DTSTART:20261025T010000
END:STANDARD
BEGIN:DAYLIGHT
TZOFFSETFROM:+0100
TZOFFSETTO:+0200
TZNAME:CEST
DTSTART:20270328T010000
END:DAYLIGHT
BEGIN:STANDARD
TZOFFSETFROM:+0200
TZOFFSETTO:+0100
TZNAME:CET
DTSTART:20271031T010000
END:STANDARD
END:VTIMEZONE
BEGIN:VEVENT
DTSTART;TZID=Europe/Amsterdam:20260212T130000
DTEND;TZID=Europe/Amsterdam:20260212T170000
DTSTAMP:20260419T152714
CREATED:20260130T215302Z
LAST-MODIFIED:20260202T144230Z
UID:3160-1770901200-1770915600@joyta.nl
SUMMARY:Feestelijke opening van de huiskamer ontmoeting voor mensen met hersenletsel en hun naasten
DESCRIPTION:Feestelijke opening Joyta –  huiskamerontmoeting in Geleen op 12 februari \nMet veel plezier nodigen we je uit voor de feestelijke opening van de Joyta huiskamer ontmoeting.\neen huiskamerontmoeting voor mensen met hersenletsel en hun naasten. \nJoyta is een veilige plek waar ruimte is voor ontmoeting\, herkenning en verbinding.\nMet elkaar praten\, aandacht\, luisteren en er mogen zijn. \nTijdens deze opening maken we op een laagdrempelige manier kennis met elkaar en met wat Joyta wil betekenen.\nOnder het genot van een drankje met een lekker stukje cake is er ruimte voor ontmoeting\, een goed gesprek en een feestelijk moment. \nJe bent van harte welkom.\nMeld je wel even aan via het contact formulier op joyta.nl \nJoyta – zien en gezien worden. Begrijpen en begrepen worden.
URL:https://joyta.nl/event/feestelijke-opening-van-de-huiskamer-ontmoeting-voor-mensen-met-hersenletsel-en-hun-naasten/
LOCATION:markt 35 geleen\, markt 35\, Geleen\, Limburg\, 6161GJ\, Netherlands
ORGANIZER;CN="Joyta.nl":MAILTO:info.joyta@gmail.com
END:VEVENT
END:VCALENDAR